BEGIN:VCALENDAR
METHOD:PUBLISH
VERSION:2.0
CALSCALE:GREGORIAN
PRODID:-//NONSGML WPForms//NONSGML Sugar Calendar Feeds v3.11.0//EN
X-WR-CALNAME:From Seed to Strategy: Intentional Cover Crop Management
X-WR-CALDESC:Conservation Districts of Iowa
X-WR-TIMEZONE:America/Chicago
BEGIN:VTIMEZONE
TZID:America/Chicago
BEGIN:STANDARD
TZOFFSETFROM:-0500
TZOFFSETTO:-0600
DTSTART:20251102T070000
TZNAME:CST
END:STANDARD
BEGIN:DAYLIGHT
TZOFFSETFROM:-0600
TZOFFSETTO:-0500
DTSTART:20260308T080000
TZNAME:CDT
END:DAYLIGHT
END:VTIMEZONE
BEGIN:VTIMEZONE
TZID:America/Chicago
BEGIN:STANDARD
TZOFFSETFROM:-0500
TZOFFSETTO:-0600
DTSTART:20251102T070000
TZNAME:CST
END:STANDARD
BEGIN:DAYLIGHT
TZOFFSETFROM:-0600
TZOFFSETTO:-0500
DTSTART:20260308T080000
TZNAME:CDT
END:DAYLIGHT
END:VTIMEZONE
BEGIN:VEVENT
SUMMARY:From Seed to Strategy: Intentional Cover Crop Management
DESCRIPTION:Featuring:\n\n\n\nBarry Fisher: Barry is a farmer\, retired 
 Indiana NRCS Soil Health Specialist and founder of Fisher Soil Health LL
 C\, will share on intentional cover crop management. He is known for his
  soil health expertise by farmers\, crop specialists and agencies throug
 hout the US Corn Belt and Northern Plains.\n\n\n\nMeaghan Anderson: Meag
 han is an ISU Extension &amp\; Outreach Agronomist and is well known in 
 our area. Her focus will be on rowcrop seedling health and vigor followi
 ng cover crops.\n\n\n\nLearn about cost-share sources and stacking from 
 our panel of industry and agency experts.\n\n\n\nMorning refreshments wi
 ll be available at 8:30 a.m.\n\n\n\nA complimentary lunch will be provid
 ed.\n\n\n\nAn RSVP is REQUIRED for this free event. To RSVP\, call 641-4
 84-2702\, ext. 305 or email melody.bro@ia.nacdnet.net by Wednesday\, Mar
 ch 18.\n\n\n\nPersons with disabilities who require accommodation to par
 ticipate in this event should contact Stacie Buhr at 641-484-2702\, ext.
  3 or dial 7-1-1 to access telecommunication relay services at least 48 
 hours prior to the event.\n\n\n\nSponsored by Tama Soil &amp\; Water Con
 servation District. Tama Soil &amp\; Water Conservation District operate
 s in cooperation with the USDA Natural Resources Conservation Service an
 d the Iowa Department of Agriculture and Land Stewardship. All programs 
 and services are offered on a nondiscriminatory basis without regard to 
 race\, color\, national origin\, religion\, sex\, age\, marital status\,
  orhandicap. USDA is an equal opportunity employer\, provider\, and lend
 er. USDA programs are available to all without regard to race\, color\, 
 national origin\, religion\, sex\, or disability
URL;VALUE=URI:https://cdiowa.org/events/from-seed-to-strategy-intentiona
 l-cover-crop-management/
UID:urn:uuid:73dae112-32ed-4af8-b8a7-aed90b388d19
STATUS:CONFIRMED
ORGANIZER:
DTSTAMP:20260421T085621Z
DTSTART;TZID=America/Chicago:20260326T090000
DTEND;TZID=America/Chicago:20260326T140000
LOCATION:1007 S. Prospect Drive
END:VEVENT
END:VCALENDAR