BEGIN:VCALENDAR
METHOD:PUBLISH
VERSION:2.0
CALSCALE:GREGORIAN
PRODID:-//NONSGML WPForms//NONSGML Sugar Calendar Feeds v3.11.0//EN
X-WR-CALNAME:Savanna Institute's Perennial Farm Gathering
X-WR-CALDESC:Conservation Districts of Iowa
X-WR-TIMEZONE:America/Chicago
BEGIN:VTIMEZONE
TZID:America/Chicago
BEGIN:STANDARD
TZOFFSETFROM:-0500
TZOFFSETTO:-0600
DTSTART:20251102T070000
TZNAME:CST
END:STANDARD
BEGIN:DAYLIGHT
TZOFFSETFROM:-0600
TZOFFSETTO:-0500
DTSTART:20260308T080000
TZNAME:CDT
END:DAYLIGHT
END:VTIMEZONE
BEGIN:VTIMEZONE
TZID:America/Chicago
BEGIN:STANDARD
TZOFFSETFROM:-0500
TZOFFSETTO:-0600
DTSTART:20251102T070000
TZNAME:CST
END:STANDARD
BEGIN:DAYLIGHT
TZOFFSETFROM:-0600
TZOFFSETTO:-0500
DTSTART:20260308T080000
TZNAME:CDT
END:DAYLIGHT
END:VTIMEZONE
BEGIN:VEVENT
SUMMARY:Savanna Institute's Perennial Farm Gathering
DESCRIPTION:The Perennial Farm Gathering\, Savanna Institute’s signatu
 re event\, brings together a wide community of land stewards\, farmers\,
  and perennial enthusiasts. Over three days\, folks gather to share work
 \, research\, and lessons learned in panels\, workshops\, deep dives\, a
 nd nutshell overviews – all to advance perennial agriculture. Register
 .
URL;VALUE=URI:https://cdiowa.org/events/perennial-farm-gathering/
UID:urn:uuid:49a394d3-c343-484a-87da-17183cc92183
STATUS:CONFIRMED
ORGANIZER:
DTSTAMP:20260424T083303Z
DTSTART;VALUE=DATE:20260311
DTEND;VALUE=DATE:20260313
LOCATION:500 Bell Street
END:VEVENT
END:VCALENDAR